BEGIN:VCALENDAR
VERSION:2.0
PRODID:-//https://gedenken-hamburg-mitte.de/veranstaltungen/erinnern-heisst-begegnen-esthers-spuren-im-kleinen-teehaus///DE
CALSCALE:GREGORIAN
BEGIN:VEVENT
DTSTART;TZID=W. Europe Standard Time:20260507T170000
DTEND;TZID=W. Europe Standard Time:20260507T183000
LOCATION:Teepavillon Große Wallanlagen, Holstenwall 30, 20355, Hamburg
DTSTAMP:20260421T194255
SUMMARY:Veranstaltung: Erinnern heißt Begegnen: Esthers Spuren im Kleinen Teehaus
-1URL;VALUE=URI:https://gedenken-hamburg-mitte.de/veranstaltungen/erinnern-heisst-begegnen-esthers-spuren-im-kleinen-teehaus/
DESCRIPTION:Mehr Infos: https://gedenken-hamburg-mitte.de/veranstaltungen/erinnern-heisst-begegnen-esthers-spuren-im-kleinen-teehaus/
UID:20260421T194255-Veranstaltung: Erinnern heißt Begegnen: Esthers Spuren im Kleinen Teehaus
END:VEVENT
END:VCALENDAR