BEGIN:VCALENDAR
VERSION:2.0
PRODID:-//https://gedenken-hamburg-mitte.de/veranstaltungen/das-ist-widerstand///DE
CALSCALE:GREGORIAN
BEGIN:VEVENT
DTSTART;TZID=W. Europe Standard Time:20260420T000000
DTEND;TZID=W. Europe Standard Time:20260508T000000
LOCATION:FC St. Pauli Museum FC St. Pauli Museum (in der Gegengerade des Millerntor-Stadions), Heiligengeistfeld 1, 20359, Hamburg
DTSTAMP:20260421T061141
SUMMARY:Veranstaltung: DAS IST WIDERSTAND
732URL;VALUE=URI:https://gedenken-hamburg-mitte.de/veranstaltungen/das-ist-widerstand/
DESCRIPTION:Mehr Infos: https://gedenken-hamburg-mitte.de/veranstaltungen/das-ist-widerstand/
UID:20260421T061141-Veranstaltung: DAS IST WIDERSTAND
END:VEVENT
END:VCALENDAR